BEGIN:VCALENDAR
VERSION:2.0
PRODID:-// - ECPv6.15.20//NONSGML v1.0//EN
CALSCALE:GREGORIAN
METHOD:PUBLISH
X-ORIGINAL-URL:https://binauerpuls.de
X-WR-CALDESC:Veranstaltungen für 
REFRESH-INTERVAL;VALUE=DURATION:PT1H
X-Robots-Tag:noindex
X-PUBLISHED-TTL:PT1H
BEGIN:VTIMEZONE
TZID:Europe/Berlin
BEGIN:DAYLIGHT
TZOFFSETFROM:+0100
TZOFFSETTO:+0200
TZNAME:CEST
DTSTART:20250330T010000
END:DAYLIGHT
BEGIN:STANDARD
TZOFFSETFROM:+0200
TZOFFSETTO:+0100
TZNAME:CET
DTSTART:20251026T010000
END:STANDARD
BEGIN:DAYLIGHT
TZOFFSETFROM:+0100
TZOFFSETTO:+0200
TZNAME:CEST
DTSTART:20260329T010000
END:DAYLIGHT
BEGIN:STANDARD
TZOFFSETFROM:+0200
TZOFFSETTO:+0100
TZNAME:CET
DTSTART:20261025T010000
END:STANDARD
BEGIN:DAYLIGHT
TZOFFSETFROM:+0100
TZOFFSETTO:+0200
TZNAME:CEST
DTSTART:20270328T010000
END:DAYLIGHT
BEGIN:STANDARD
TZOFFSETFROM:+0200
TZOFFSETTO:+0100
TZNAME:CET
DTSTART:20271031T010000
END:STANDARD
END:VTIMEZONE
BEGIN:VEVENT
DTSTART;TZID=Europe/Berlin:20260423T170000
DTEND;TZID=Europe/Berlin:20260423T230000
DTSTAMP:20260423T115202
CREATED:20260131T180742Z
LAST-MODIFIED:20260131T180742Z
UID:1417-1776963600-1776985200@binauerpuls.de
SUMMARY:After-Work-Party
DESCRIPTION:Donnerstag\, 23.04.2026 \, 17:00 Uhr\n\n\nAfter-Work-Party\nBeschreibung\n\n\n\n\n\n\nZweimal im Jahr lädt der Lions Club ElzNeckar ein\, um gemeinsam den Feierabend zu genießen. Bei stimmiger Live-Musik\, kühlen Getränken und leckerem Fingerfood verwandelt sich der Kirchplatz in eine Oase der Geselligkeit. Die Erlöse der Veranstaltung kommen verschiedenen sozialen Projekten in der Region zugute.
URL:https://binauerpuls.de/event/after-work-party/
LOCATION:Mosbach Kirchplatz\, Kirchplatz\, Mosbach\, 74821
CATEGORIES:Feste
END:VEVENT
END:VCALENDAR